Package: scShapes Version: 1.17.0 Command: rm -rf scShapes.buildbin-libdir && mkdir scShapes.buildbin-libdir && /Users/biocbuild/BBS/utils/build-universal.sh scShapes_1.17.0.tar.gz /Library/Frameworks/R.framework/Resources/bin/R scShapes.buildbin-libdir StartedAt: 2025-11-13 23:56:04 -0500 (Thu, 13 Nov 2025) EndedAt: 2025-11-13 23:56:09 -0500 (Thu, 13 Nov 2025) EllapsedTime: 5.1 seconds RetCode: 0 Status: OK PackageFile: scShapes_1.17.0.tgz PackageFileSize: 72.23 KiB