Package: scShapes Version: 1.17.0 Maintainer: Malindrie Dharmaratne MaintainerEmail: malindrie at gmail.com git_url: https://git.bioconductor.org/packages/scShapes git_branch: devel git_last_commit: 437ea16 git_last_commit_date: 2025-10-29 11:10:49 -0500 (Wed, 29 Oct 2025)