Package: scRepertoire Version: 2.7.0 Command: /Library/Frameworks/R.framework/Resources/bin/R CMD INSTALL scRepertoire StartedAt: 2025-11-14 15:15:06 -0500 (Fri, 14 Nov 2025) EndedAt: 2025-11-14 15:15:26 -0500 (Fri, 14 Nov 2025) EllapsedTime: 19.9 seconds RetCode: 0 Status: OK