Package: scRepertoire Version: 2.7.0 Command: /Library/Frameworks/R.framework/Resources/bin/R CMD build --keep-empty-dirs --no-resave-data scRepertoire StartedAt: 2025-11-17 18:29:52 -0500 (Mon, 17 Nov 2025) EndedAt: 2025-11-17 18:31:23 -0500 (Mon, 17 Nov 2025) EllapsedTime: 91.0 seconds RetCode: 1 Status: ERROR PackageFile: None PackageFileSize: NA