Back to Build/check report for BioC 3.23:   simplified   long
ABCDEFGHIJKLMNOPQR[S]TUVWXYZ

This page was generated on 2025-11-13 11:32 -0500 (Thu, 13 Nov 2025).

HostnameOSArch (*)R versionInstalled pkgs
kjohnson3macOS 13.7.7 Venturaarm64R Under development (unstable) (2025-11-04 r88984) -- "Unsuffered Consequences" 4013
Click on any hostname to see more info about the system (e.g. compilers)      (*) as reported by 'uname -p', except on Windows and Mac OS X

All results for package scRepertoire


To the developers/maintainers of the scRepertoire package:
- Allow up to 24 hours (and sometimes 48 hours) for your latest push to git@git.bioconductor.org:packages/scRepertoire.git to reflect on this report. See Troubleshooting Build Report for more information.
- Use the following Renviron settings to reproduce errors and warnings.
- If 'R CMD check' started to fail recently on the Linux builder(s) over a missing dependency, add the missing dependency to 'Suggests:' in your DESCRIPTION file. See Renviron.bioc for more information.

raw results

Package 1926/2325HostnameOS / ArchINSTALLBUILDCHECKBUILD BIN
scRepertoire 2.7.0  (landing page)
Nick Borcherding
Snapshot Date: 2025-11-12 13:40 -0500 (Wed, 12 Nov 2025)
git_url: https://git.bioconductor.org/packages/scRepertoire
git_branch: devel
git_last_commit: f13dda8
git_last_commit_date: 2025-10-29 11:04:20 -0500 (Wed, 29 Oct 2025)
kjohnson3macOS 13.7.7 Ventura / arm64  OK    ERROR  skippedskipped



Results for Bioconductor software packages that depend directly on package scRepertoire

QUICK STATSOS / ArchINSTALLBUILDCHECKBUILD BIN
kjohnson3macOS 13.7.7 Ventura / arm64
001
010
0000
000
Package 1/1HostnameOS / ArchINSTALLBUILDCHECKBUILD BIN
Ibex 1.1.0  (landing page)
Nick Borcherding
git_last_commit: 1dadb52
git_last_commit_date: 2025-10-29 11:38:26 -0500
kjohnson3macOS 13.7.7 Ventura / arm64  OK    ERROR  skippedskipped