Package: scRecover Version: 1.27.0 Command: /Library/Frameworks/R.framework/Resources/bin/R CMD INSTALL scRecover StartedAt: 2025-11-13 15:03:45 -0500 (Thu, 13 Nov 2025) EndedAt: 2025-11-13 15:04:03 -0500 (Thu, 13 Nov 2025) EllapsedTime: 18.1 seconds RetCode: 0 Status: OK