Package: scRecover Version: 1.27.0 Command: rm -rf scRecover.buildbin-libdir && mkdir scRecover.buildbin-libdir && /Users/biocbuild/BBS/utils/build-universal.sh scRecover_1.27.0.tar.gz /Library/Frameworks/R.framework/Resources/bin/R scRecover.buildbin-libdir StartedAt: 2025-11-12 21:10:23 -0500 (Wed, 12 Nov 2025) EndedAt: 2025-11-12 21:10:28 -0500 (Wed, 12 Nov 2025) EllapsedTime: 5.2 seconds RetCode: 0 Status: OK PackageFile: scRecover_1.27.0.tgz PackageFileSize: 1.168 MiB