Package: scRecover Version: 1.27.0 Maintainer: Zhun Miao MaintainerEmail: miaoz13 at tsinghua.org.cn git_url: https://git.bioconductor.org/packages/scRecover git_branch: devel git_last_commit: 0b2febe git_last_commit_date: 2025-10-29 10:51:39 -0500 (Wed, 29 Oct 2025)