Package: scReClassify Version: 1.17.0 Command: /home/biocbuild/bbs-3.23-bioc/R/bin/R CMD INSTALL scReClassify StartedAt: 2025-11-13 16:00:43 -0500 (Thu, 13 Nov 2025) EndedAt: 2025-11-13 16:01:04 -0500 (Thu, 13 Nov 2025) EllapsedTime: 21.2 seconds RetCode: 0 Status: OK