Package: scReClassify Version: 1.17.0 Command: /home/biocbuild/bbs-3.23-bioc/R/bin/R CMD check --install=check:scReClassify.install-out.txt --library=/home/biocbuild/bbs-3.23-bioc/R/site-library --timings scReClassify_1.17.0.tar.gz StartedAt: 2025-11-12 03:44:29 -0500 (Wed, 12 Nov 2025) EndedAt: 2025-11-12 03:49:34 -0500 (Wed, 12 Nov 2025) EllapsedTime: 305.3 seconds RetCode: 0 Status: OK CheckDir: scReClassify.Rcheck Warnings: 0