Package: scRNAseqApp Version: 1.11.0 Command: /home/biocbuild/bbs-3.23-bioc/R/bin/R CMD INSTALL scRNAseqApp StartedAt: 2025-11-14 15:27:29 -0500 (Fri, 14 Nov 2025) EndedAt: 2025-11-14 15:28:33 -0500 (Fri, 14 Nov 2025) EllapsedTime: 63.6 seconds RetCode: 0 Status: OK