Package: scRNAseqApp Version: 1.11.0 Command: /Library/Frameworks/R.framework/Resources/bin/R CMD INSTALL scRNAseqApp StartedAt: 2025-11-13 15:16:11 -0500 (Thu, 13 Nov 2025) EndedAt: 2025-11-13 15:16:36 -0500 (Thu, 13 Nov 2025) EllapsedTime: 25.1 seconds RetCode: 0 Status: OK