############################################################################## ############################################################################## ### ### Running command: ### ### /Library/Frameworks/R.framework/Resources/bin/R CMD build --keep-empty-dirs --no-resave-data scRNAseqApp ### ############################################################################## ############################################################################## * checking for file ‘scRNAseqApp/DESCRIPTION’ ... OK * preparing ‘scRNAseqApp’: * checking DESCRIPTION meta-information ... OK * installing the package (it is needed to build vignettes) ----------------------------------- ERROR: dependency ‘rhdf5’ is not available for package ‘scRNAseqApp’ Perhaps try a variation of: install.packages('rhdf5') * removing ‘/private/var/folders/r0/l4fjk6cj5xj0j3brt4bplpl40000gt/T/RtmpXd5Vnh/Rinst891a2deb1cb8/scRNAseqApp’ ----------------------------------- ERROR: package installation failed