Package: scQTLtools Version: 1.3.0 Command: /home/biocbuild/bbs-3.23-bioc/R/bin/R CMD build --keep-empty-dirs --no-resave-data scQTLtools StartedAt: 2025-11-14 19:56:07 -0500 (Fri, 14 Nov 2025) EndedAt: 2025-11-14 19:57:34 -0500 (Fri, 14 Nov 2025) EllapsedTime: 87.0 seconds RetCode: 0 Status: OK PackageFile: scQTLtools_1.3.0.tar.gz PackageFileSize: 4.118 MiB