Package: scQTLtools Version: 1.3.0 Command: /Library/Frameworks/R.framework/Resources/bin/R CMD INSTALL scQTLtools StartedAt: 2025-11-13 15:30:36 -0500 (Thu, 13 Nov 2025) EndedAt: 2025-11-13 15:30:53 -0500 (Thu, 13 Nov 2025) EllapsedTime: 16.7 seconds RetCode: 0 Status: OK