Package: scQTLtools Version: 1.3.0 Command: /Library/Frameworks/R.framework/Resources/bin/R CMD build --keep-empty-dirs --no-resave-data scQTLtools StartedAt: 2025-11-13 17:38:46 -0500 (Thu, 13 Nov 2025) EndedAt: 2025-11-13 17:39:25 -0500 (Thu, 13 Nov 2025) EllapsedTime: 39.4 seconds RetCode: 0 Status: OK PackageFile: scQTLtools_1.3.0.tar.gz PackageFileSize: 4.27 MiB