Package: scQTLtools Version: 1.3.0 Command: rm -rf scQTLtools.buildbin-libdir && mkdir scQTLtools.buildbin-libdir && /Users/biocbuild/BBS/utils/build-universal.sh scQTLtools_1.3.0.tar.gz /Library/Frameworks/R.framework/Resources/bin/R scQTLtools.buildbin-libdir StartedAt: 2025-11-13 23:55:50 -0500 (Thu, 13 Nov 2025) EndedAt: 2025-11-13 23:56:12 -0500 (Thu, 13 Nov 2025) EllapsedTime: 21.4 seconds RetCode: 0 Status: OK PackageFile: scQTLtools_1.3.0.tgz PackageFileSize: 3.304 MiB