Package: scQTLtools Version: 1.3.0 Maintainer: Xiaofeng Wu MaintainerEmail: 1427972815 at qq.com git_url: https://git.bioconductor.org/packages/scQTLtools git_branch: devel git_last_commit: 2285e5a git_last_commit_date: 2025-10-29 11:34:00 -0500 (Wed, 29 Oct 2025)