Package: scPipe Version: 2.11.0 Command: /home/biocbuild/bbs-3.23-bioc/R/bin/R CMD INSTALL scPipe StartedAt: 2025-11-13 15:37:27 -0500 (Thu, 13 Nov 2025) EndedAt: 2025-11-13 15:39:45 -0500 (Thu, 13 Nov 2025) EllapsedTime: 138.2 seconds RetCode: 0 Status: OK