Package: scPipe Version: 2.11.0 Command: /home/biocbuild/bbs-3.23-bioc/R/bin/R CMD build --keep-empty-dirs --no-resave-data scPipe StartedAt: 2025-11-13 19:55:46 -0500 (Thu, 13 Nov 2025) EndedAt: 2025-11-13 20:00:18 -0500 (Thu, 13 Nov 2025) EllapsedTime: 271.3 seconds RetCode: 0 Status: OK PackageFile: scPipe_2.11.0.tar.gz PackageFileSize: 12.64 MiB