Package: scPipe Version: 2.11.0 Command: /Library/Frameworks/R.framework/Resources/bin/R CMD build --keep-empty-dirs --no-resave-data scPipe StartedAt: 2025-11-13 17:38:45 -0500 (Thu, 13 Nov 2025) EndedAt: 2025-11-13 17:44:06 -0500 (Thu, 13 Nov 2025) EllapsedTime: 321.6 seconds RetCode: 0 Status: OK PackageFile: scPipe_2.11.0.tar.gz PackageFileSize: 12.67 MiB