Package: scPipe Version: 2.11.0 Maintainer: Shian Su MaintainerEmail: su.s at wehi.edu.au git_url: https://git.bioconductor.org/packages/scPipe git_branch: devel git_last_commit: fbfb464 git_last_commit_date: 2025-10-29 10:41:32 -0500 (Wed, 29 Oct 2025)