Package: scPCA Version: 1.25.0 Command: /home/biocbuild/bbs-3.23-bioc/R/bin/R CMD build --keep-empty-dirs --no-resave-data scPCA StartedAt: 2025-11-11 20:00:44 -0500 (Tue, 11 Nov 2025) EndedAt: 2025-11-11 20:05:36 -0500 (Tue, 11 Nov 2025) EllapsedTime: 292.2 seconds RetCode: 0 Status: OK PackageFile: scPCA_1.25.0.tar.gz PackageFileSize: 1.86 MiB