Package: scPCA Version: 1.25.0 Command: /Library/Frameworks/R.framework/Resources/bin/R CMD build --keep-empty-dirs --no-resave-data scPCA StartedAt: 2025-11-13 17:38:32 -0500 (Thu, 13 Nov 2025) EndedAt: 2025-11-13 17:40:30 -0500 (Thu, 13 Nov 2025) EllapsedTime: 117.3 seconds RetCode: 0 Status: OK PackageFile: scPCA_1.25.0.tar.gz PackageFileSize: 2.056 MiB