Package: scPCA Version: 1.25.0 Command: rm -rf scPCA.buildbin-libdir && mkdir scPCA.buildbin-libdir && /Users/biocbuild/BBS/utils/build-universal.sh scPCA_1.25.0.tar.gz /Library/Frameworks/R.framework/Resources/bin/R scPCA.buildbin-libdir StartedAt: 2025-11-13 23:55:48 -0500 (Thu, 13 Nov 2025) EndedAt: 2025-11-13 23:55:59 -0500 (Thu, 13 Nov 2025) EllapsedTime: 11.2 seconds RetCode: 0 Status: OK PackageFile: scPCA_1.25.0.tgz PackageFileSize: 2.088 MiB