Package: scMultiSim Version: 1.7.0 Command: /home/biocbuild/bbs-3.23-bioc/R/bin/R CMD INSTALL scMultiSim StartedAt: 2025-11-13 15:24:00 -0500 (Thu, 13 Nov 2025) EndedAt: 2025-11-13 15:24:29 -0500 (Thu, 13 Nov 2025) EllapsedTime: 29.2 seconds RetCode: 0 Status: OK