Package: scMultiSim Version: 1.7.0 Command: /home/biocbuild/bbs-3.23-bioc/R/bin/R CMD build --keep-empty-dirs --no-resave-data scMultiSim StartedAt: 2025-11-13 19:54:35 -0500 (Thu, 13 Nov 2025) EndedAt: 2025-11-13 20:03:39 -0500 (Thu, 13 Nov 2025) EllapsedTime: 543.6 seconds RetCode: 0 Status: OK PackageFile: scMultiSim_1.7.0.tar.gz PackageFileSize: 5.017 MiB