Package: scMultiSim Version: 1.7.0 Command: /Library/Frameworks/R.framework/Resources/bin/R CMD INSTALL scMultiSim StartedAt: 2025-11-13 15:15:09 -0500 (Thu, 13 Nov 2025) EndedAt: 2025-11-13 15:15:21 -0500 (Thu, 13 Nov 2025) EllapsedTime: 11.7 seconds RetCode: 0 Status: OK