Package: scMultiSim Version: 1.7.0 Command: /Library/Frameworks/R.framework/Resources/bin/R CMD build --keep-empty-dirs --no-resave-data scMultiSim StartedAt: 2025-11-13 17:38:10 -0500 (Thu, 13 Nov 2025) EndedAt: 2025-11-13 17:42:16 -0500 (Thu, 13 Nov 2025) EllapsedTime: 245.8 seconds RetCode: 0 Status: OK PackageFile: scMultiSim_1.7.0.tar.gz PackageFileSize: 5.397 MiB