Package: scMultiSim Version: 1.7.0 Maintainer: Hechen Li MaintainerEmail: hli691 at gatech.edu git_url: https://git.bioconductor.org/packages/scMultiSim git_branch: devel git_last_commit: 206826c git_last_commit_date: 2025-10-29 11:29:36 -0500 (Wed, 29 Oct 2025)