Package: scMitoMut Version: 1.7.0 Command: /home/biocbuild/bbs-3.23-bioc/R/bin/R CMD INSTALL scMitoMut StartedAt: 2025-11-11 15:11:41 -0500 (Tue, 11 Nov 2025) EndedAt: 2025-11-11 15:12:18 -0500 (Tue, 11 Nov 2025) EllapsedTime: 37.5 seconds RetCode: 0 Status: OK