Package: scMitoMut Version: 1.7.0 Command: /Library/Frameworks/R.framework/Resources/bin/R CMD INSTALL scMitoMut StartedAt: 2025-11-12 15:19:06 -0500 (Wed, 12 Nov 2025) EndedAt: 2025-11-12 15:19:10 -0500 (Wed, 12 Nov 2025) EllapsedTime: 4.7 seconds RetCode: 1 Status: ERROR