############################################################################## ############################################################################## ### ### Running command: ### ### /Library/Frameworks/R.framework/Resources/bin/R CMD build --keep-empty-dirs --no-resave-data scMitoMut ### ############################################################################## ############################################################################## * checking for file ‘scMitoMut/DESCRIPTION’ ... OK * preparing ‘scMitoMut’: * checking DESCRIPTION meta-information ... OK * cleaning src * installing the package (it is needed to build vignettes) ----------------------------------- ERROR: dependency ‘rhdf5’ is not available for package ‘scMitoMut’ Perhaps try a variation of: install.packages('rhdf5') * removing ‘/private/var/folders/r0/l4fjk6cj5xj0j3brt4bplpl40000gt/T/RtmpVDXDmn/Rinst72734a939ddf/scMitoMut’ ----------------------------------- ERROR: package installation failed