Package: scMitoMut Version: 1.7.0 Maintainer: Wenjie Sun MaintainerEmail: sunwjie at gmail.com git_url: https://git.bioconductor.org/packages/scMitoMut git_branch: devel git_last_commit: e223927 git_last_commit_date: 2025-10-29 11:28:15 -0500 (Wed, 29 Oct 2025)