Package: scMerge Version: 1.27.0 Command: /home/biocbuild/bbs-3.23-bioc/R/bin/R CMD INSTALL scMerge StartedAt: 2025-11-13 15:54:44 -0500 (Thu, 13 Nov 2025) EndedAt: 2025-11-13 15:55:26 -0500 (Thu, 13 Nov 2025) EllapsedTime: 42.0 seconds RetCode: 0 Status: OK