Package: scMerge Version: 1.27.0 Command: /Library/Frameworks/R.framework/Resources/bin/R CMD INSTALL scMerge StartedAt: 2025-11-13 15:31:39 -0500 (Thu, 13 Nov 2025) EndedAt: 2025-11-13 15:31:57 -0500 (Thu, 13 Nov 2025) EllapsedTime: 17.4 seconds RetCode: 0 Status: OK