Package: scMerge Version: 1.27.0 Command: /Library/Frameworks/R.framework/Resources/bin/R CMD build --keep-empty-dirs --no-resave-data scMerge StartedAt: 2025-11-13 17:37:55 -0500 (Thu, 13 Nov 2025) EndedAt: 2025-11-13 17:38:46 -0500 (Thu, 13 Nov 2025) EllapsedTime: 50.6 seconds RetCode: 0 Status: OK PackageFile: scMerge_1.27.0.tar.gz PackageFileSize: 3.143 MiB