Package: scMerge Version: 1.27.0 Maintainer: Yingxin Lin MaintainerEmail: yingxin.lin at sydney.edu.au git_url: https://git.bioconductor.org/packages/scMerge git_branch: devel git_last_commit: 1741f7e git_last_commit_date: 2025-10-29 10:51:54 -0500 (Wed, 29 Oct 2025)