Package: scMET Version: 1.13.0 Command: /home/biocbuild/bbs-3.23-bioc/R/bin/R CMD INSTALL scMET StartedAt: 2025-11-23 15:34:34 -0500 (Sun, 23 Nov 2025) EndedAt: 2025-11-23 15:36:35 -0500 (Sun, 23 Nov 2025) EllapsedTime: 121.6 seconds RetCode: 0 Status: OK