Package: scMET Version: 1.13.0 Command: /home/biocbuild/bbs-3.23-bioc/R/bin/R CMD build --keep-empty-dirs --no-resave-data scMET StartedAt: 2025-11-23 19:53:28 -0500 (Sun, 23 Nov 2025) EndedAt: 2025-11-23 19:56:54 -0500 (Sun, 23 Nov 2025) EllapsedTime: 206.2 seconds RetCode: 0 Status: OK PackageFile: scMET_1.13.0.tar.gz PackageFileSize: 3.279 MiB