Package: scMET Version: 1.13.0 Command: /Library/Frameworks/R.framework/Resources/bin/R CMD INSTALL scMET StartedAt: 2025-11-13 15:20:03 -0500 (Thu, 13 Nov 2025) EndedAt: 2025-11-13 15:20:35 -0500 (Thu, 13 Nov 2025) EllapsedTime: 31.7 seconds RetCode: 0 Status: OK