Package: scMET Version: 1.13.0 Command: /Library/Frameworks/R.framework/Resources/bin/R CMD build --keep-empty-dirs --no-resave-data scMET StartedAt: 2025-11-13 17:37:58 -0500 (Thu, 13 Nov 2025) EndedAt: 2025-11-13 17:39:06 -0500 (Thu, 13 Nov 2025) EllapsedTime: 67.8 seconds RetCode: 0 Status: OK PackageFile: scMET_1.13.0.tar.gz PackageFileSize: 3.282 MiB