Package: scMET Version: 1.13.0 Command: rm -rf scMET.buildbin-libdir && mkdir scMET.buildbin-libdir && /Users/biocbuild/BBS/utils/build-universal.sh scMET_1.13.0.tar.gz /Library/Frameworks/R.framework/Resources/bin/R scMET.buildbin-libdir StartedAt: 2025-11-13 23:55:35 -0500 (Thu, 13 Nov 2025) EndedAt: 2025-11-13 23:56:16 -0500 (Thu, 13 Nov 2025) EllapsedTime: 40.9 seconds RetCode: 0 Status: OK PackageFile: scMET_1.13.0.tgz PackageFileSize: 4.025 MiB