Package: scLANE Version: 1.1.0 Command: /home/biocbuild/bbs-3.23-bioc/R/bin/R CMD INSTALL scLANE StartedAt: 2025-11-13 15:09:41 -0500 (Thu, 13 Nov 2025) EndedAt: 2025-11-13 15:10:30 -0500 (Thu, 13 Nov 2025) EllapsedTime: 49.2 seconds RetCode: 0 Status: OK