Package: scLANE Version: 1.1.0 Command: /home/biocbuild/bbs-3.23-bioc/R/bin/R CMD build --keep-empty-dirs --no-resave-data scLANE StartedAt: 2025-11-13 19:53:39 -0500 (Thu, 13 Nov 2025) EndedAt: 2025-11-13 19:55:32 -0500 (Thu, 13 Nov 2025) EllapsedTime: 113.1 seconds RetCode: 0 Status: OK PackageFile: scLANE_1.1.0.tar.gz PackageFileSize: 3.964 MiB