Package: scLANE Version: 1.1.0 Command: /Library/Frameworks/R.framework/Resources/bin/R CMD INSTALL scLANE StartedAt: 2025-11-14 15:06:05 -0500 (Fri, 14 Nov 2025) EndedAt: 2025-11-14 15:06:24 -0500 (Fri, 14 Nov 2025) EllapsedTime: 19.7 seconds RetCode: 0 Status: OK