Package: scLANE Version: 1.1.0 Command: /Library/Frameworks/R.framework/Resources/bin/R CMD build --keep-empty-dirs --no-resave-data scLANE StartedAt: 2025-11-14 17:34:56 -0500 (Fri, 14 Nov 2025) EndedAt: 2025-11-14 17:35:35 -0500 (Fri, 14 Nov 2025) EllapsedTime: 39.5 seconds RetCode: 0 Status: OK PackageFile: scLANE_1.1.0.tar.gz PackageFileSize: 4.723 MiB