Package: scHiCcompare Version: 1.3.0 Command: /home/biocbuild/bbs-3.23-bioc/R/bin/R CMD check --install=check:scHiCcompare.install-out.txt --library=/home/biocbuild/bbs-3.23-bioc/R/site-library --timings scHiCcompare_1.3.0.tar.gz StartedAt: 2025-11-26 03:45:08 -0500 (Wed, 26 Nov 2025) EndedAt: 2025-11-26 03:49:32 -0500 (Wed, 26 Nov 2025) EllapsedTime: 263.3 seconds RetCode: 0 Status: WARNINGS CheckDir: scHiCcompare.Rcheck Warnings: 1