Package: scHiCcompare Version: 1.3.0 Command: /Library/Frameworks/R.framework/Resources/bin/R CMD INSTALL scHiCcompare StartedAt: 2025-11-13 15:18:26 -0500 (Thu, 13 Nov 2025) EndedAt: 2025-11-13 15:18:37 -0500 (Thu, 13 Nov 2025) EllapsedTime: 11.5 seconds RetCode: 0 Status: OK