############################################################################## ############################################################################## ### ### Running command: ### ### /Library/Frameworks/R.framework/Resources/bin/R CMD INSTALL scHiCcompare ### ############################################################################## ############################################################################## * installing to library ‘/Library/Frameworks/R.framework/Versions/4.6-arm64/Resources/library’ * installing *source* package ‘scHiCcompare’ ... ** this is package ‘scHiCcompare’ version ‘1.3.0’ ** using staged installation ** R ** data ** inst ** byte-compile and prepare package for lazy loading Warning: replacing previous import ‘dplyr::count’ by ‘mclust::count’ when loading ‘scHiCcompare’ ** help *** installing help indices *** copying figures ** building package indices ** installing vignettes ** testing if installed package can be loaded from temporary location Warning: replacing previous import ‘dplyr::count’ by ‘mclust::count’ when loading ‘scHiCcompare’ ** testing if installed package can be loaded from final location Warning: replacing previous import ‘dplyr::count’ by ‘mclust::count’ when loading ‘scHiCcompare’ ** testing if installed package keeps a record of temporary installation path * DONE (scHiCcompare)